BEGIN:VCALENDAR
VERSION:2.0
PRODID:-//wp-events-plugin.com//7.2.3.1//EN
BEGIN:VEVENT
UID:129@buehne-s.ch
DTSTART;TZID=Europe/Zurich:20250919T193000
DTEND;TZID=Europe/Zurich:20250927T193000
DTSTAMP:20260213T144718Z
URL:https://buehne-s.ch/events/accidental-death-of-an-anarchist-6/
SUMMARY:Accidental Death of an Anarchist
DESCRIPTION:At a police station in Milan bedlam ensues after an anarchist f
 alls out of a window – accidentally\, of course. As the police officers 
 scramble to figure out which version of events will make them look least g
 uilty\, the Madman appears. A habitual con man whose highspeed monologues 
 confuse even the best interrogators\, the Madman makes it his mission to f
 ind out what really happened in the case of the anarchist\, with the help 
 of his favourite tools: disguises! In doing so\, he exposes the rot at the
  core of post-war Italian institutions with wit and humour..\n\n"Accidenta
 l Death of an Anarchist" is a slapstick comedy with a serious core in whic
 h the only way to stay sane is to go crazy. How can the public institution
 s on which we all depend be held accountable? This question is as urgent n
 ow as it was in the 1970s.\n\nAutor*in: \n\nDario Fo - Adapted by Tim Supp
 le and Alan Cumming\n\nMitwirkende:\n\nMadman – Gagan Narula\nSuperinten
 dent – Olivia Tjon-A-Meeuw\nInspector Pisani – Kiran Wenger\nInspector
  Bertozzo – Astrit Abazi\nMaria Feletti – Courtney Binkert\nConstables
  – May Kinoshita\n\nDirector – Adriana Rüegger\nProduction – May Ki
 noshita\nStage Design &amp\; Props – Sarah Rechsteiner\nCostumes &amp\; 
 Light – Saskia Kaiser\nGraphic Design – Olivier Samter\nMarketing – 
 Courtney Binkert &amp\; Adriana Rüegger\n\nReservation/Tickets:\n\nWebsit
 e: https://thefoulowls.com Schools: info@thefoulowls.com\n\nRegular: 25 CH
 F / Legi\, AHV\, Kulturlegi: 20 CHF\n\nDoors: 19:00 \; Bar open: 19:00 and
  during the break
ATTACH;FMTTYPE=image/jpeg:https://buehne-s.ch/wp-content/uploads/2025/08/f
 f-912cb08090cb8a00b0efa7a95807229d-ff-ADOAA_SM_45.jpg
END:VEVENT
BEGIN:VTIMEZONE
TZID:Europe/Zurich
X-LIC-LOCATION:Europe/Zurich
BEGIN:DAYLIGHT
DTSTART:20250330T030000
TZOFFSETFROM:+0100
TZOFFSETTO:+0200
TZNAME:CEST
END:DAYLIGHT
END:VTIMEZONE
END:VCALENDAR